BEGIN:VCALENDAR
VERSION:2.0
PRODID:-//eventon.com NONSGML v1.0//EN
CALSCALE:GREGORIAN
METHOD:PUBLISH
BEGIN:VEVENT
UID:69e75491126d0
DTSTAMP:20260421T064225
DTSTART:20160321T110000Z
DTEND:20160321T150000Z
TZID:UTC
LOCATION:Don&#039;t Be A Sitting Duck 1633 East Vine Street 
SUMMARY:G License Re-Qualification
DESCRIPTION: The Re-Qualification course is $60 and is a single day class. We offer all the security training necessary to get licensed through the state to work in the private security field. All of our training exceeds all state requirements to provide the most in depth training in the area. Please[..]\nhttps://dontbeasittingduck.com/events/g-license-re-qualification-11/
URL:https://dontbeasittingduck.com/events/g-license-re-qualification-11/
END:VEVENT
END:VCALENDAR