BEGIN:VCALENDAR
VERSION:2.0
PRODID:-//eventon.com NONSGML v1.0//EN
CALSCALE:GREGORIAN
METHOD:PUBLISH
BEGIN:VEVENT
UID:69ed604f7a7c1
DTSTAMP:20260425T204607
DTSTART:20260429T230000Z
DTEND:20260430T010000Z
TZID:America/New_York
LOCATION:
SUMMARY:Carry Laws Course - Online
DESCRIPTION: Thinking about carrying a firearm for personal protection? In Florida\,  the right to carry comes with serious responsibilities. Our “So You Wanna Carry” course is designed to prepare you with the must-know knowledge for carrying a handgun legally\,  safely\,  and responsibly in the Sunshine State.This is an online course taught by a live instructor[..]\nhttps://dontbeasittingduck.com/events/carry-laws-course-online-12/
URL:https://dontbeasittingduck.com/events/carry-laws-course-online-12/
END:VEVENT
END:VCALENDAR