BEGIN:VCALENDAR
VERSION:2.0
PRODID:-//eventon.com NONSGML v1.0//EN
CALSCALE:GREGORIAN
METHOD:PUBLISH
BEGIN:VEVENT
UID:69ed603d99ac0
DTSTAMP:20260425T204549
DTSTART:20260615T004500Z
DTEND:20260615T034500Z
TZID:America/New_York
LOCATION:Volusia County Gun Club 4845 E. SR 44 New Smyrna Beach\,  FL 32168
SUMMARY:Handgun Fundamentals - New Smyrna Beach
DESCRIPTION: Looking to get comfortable with a new gun or needing to show you can safely shoot for your Concealed License Certificate? Then Don’t Be A Sitting Duck’s Handgun Fundamentals is for you.During this course you will work one on one with an instructor to ensure you understand the safe loading\, [..]\nhttps://dontbeasittingduck.com/events/handgun-fundamentals-new-smyrna-beach-3/
URL:https://dontbeasittingduck.com/events/handgun-fundamentals-new-smyrna-beach-3/
END:VEVENT
END:VCALENDAR