BEGIN:VCALENDAR
VERSION:2.0
PRODID:-//eventon.com NONSGML v1.0//EN
CALSCALE:GREGORIAN
METHOD:PUBLISH
BEGIN:VEVENT
UID:69ed607879595
DTSTAMP:20260425T204648
DTSTART:20260608T130000Z
DTEND:20260611T210000Z
TZID:America/New_York
LOCATION:The Morgan Group 100 S Beach Street #200
SUMMARY:D License Course - Daytona Beach
DESCRIPTION: Don’t Be A Sitting Duck is happy to partner with The Morgan Group and now offer Security Training to those on the east coast of Central Florida. All courses in Daytona Beach are hosted by The Morgan Group so if you are interested in taking one of these classes click[..]\nhttps://dontbeasittingduck.com/events/d-license-course-daytona-beach-23/
URL:https://dontbeasittingduck.com/events/d-license-course-daytona-beach-23/
END:VEVENT
END:VCALENDAR