BEGIN:VCALENDAR
VERSION:2.0
PRODID:-//eventon.com NONSGML v1.0//EN
CALSCALE:GREGORIAN
METHOD:PUBLISH
BEGIN:VEVENT
UID:69ed607c737fc
DTSTAMP:20260425T204652
DTSTART:20260612T120000Z
DTEND:20260612T160000Z
TZID:America/New_York
LOCATION:Don&#039;t Be A Sitting Duck 1633 East Vine Street 
SUMMARY:G RE-QUALIFICATION - Kissimmee
DESCRIPTION: Don’t Be A Sitting Duck offers the Security G License yearly&nbsp;4 hour&nbsp;re-qualification so you can be up to date on all the latest laws and keep your shooting skills on point. All training meets requirements set by the Division of Licensing and is done by a state licensed K instructor.[..]\nhttps://dontbeasittingduck.com/events/g-re-qualification-kissimmee-76/
URL:https://dontbeasittingduck.com/events/g-re-qualification-kissimmee-76/
END:VEVENT
END:VCALENDAR