BEGIN:VCALENDAR
VERSION:2.0
PRODID:-//eventon.com NONSGML v1.0//EN
CALSCALE:GREGORIAN
METHOD:PUBLISH
BEGIN:VEVENT
UID:69ed603d85027
DTSTAMP:20260425T204549
DTSTART:20260614T130000Z
DTEND:20260614T170000Z
TZID:America/New_York
LOCATION:Volusia County Gun Club 4845 E. SR 44 New Smyrna Beach\,  FL 32168
SUMMARY:PRIVATE RANGE TRAINING SESSION - NEW SMYRNA BEACH
DESCRIPTION: If you are looking for a private course with an instructor to get comfortable with a new handgun or you want to work through some issues\,  Don’t Be A Sitting Duck is here to help. You can book us for a session at $200 per person and $50 per additional[..]\nhttps://dontbeasittingduck.com/events/private-range-training-session-new-smyrna-beach-13/
URL:https://dontbeasittingduck.com/events/private-range-training-session-new-smyrna-beach-13/
END:VEVENT
END:VCALENDAR