BEGIN:VCALENDAR
VERSION:2.0
PRODID:-//eventon.com NONSGML v1.0//EN
CALSCALE:GREGORIAN
METHOD:PUBLISH
BEGIN:VEVENT
UID:69ed5fe52199f
DTSTAMP:20260425T204421
DTSTART:20260525T130000Z
DTEND:20260528T210000Z
TZID:America/New_York
LOCATION:The Morgan Group 100 S Beach Street #200
SUMMARY:D License Course - Daytona Beach
DESCRIPTION: Don’t Be A Sitting Duck is happy to partner with The Morgan Group and now offer Security Training to those on the east coast of Central Florida. All courses in Daytona Beach are hosted by The Morgan Group so if you are interested in taking one of these classes click[..]\nhttps://dontbeasittingduck.com/events/d-license-course-daytona-beach-22/
URL:https://dontbeasittingduck.com/events/d-license-course-daytona-beach-22/
END:VEVENT
END:VCALENDAR