BEGIN:VCALENDAR
VERSION:2.0
PRODID:-//eventon.com NONSGML v1.0//EN
CALSCALE:GREGORIAN
METHOD:PUBLISH
BEGIN:VEVENT
UID:69e8a1afc6b6c
DTSTAMP:20260422T062343
DTSTART:20251216T133000Z
DTEND:20251216T053000Z
TZID:America/New_York
LOCATION:Volusia County Gun Club 4845 E. SR 44 New Smyrna Beach\,  FL 32168
SUMMARY:G Requalification - New Smyrna Beach
DESCRIPTION: Don’t Be A Sitting Duck offers the Security G License yearly&nbsp;4 hour&nbsp;re-qualification so you can be up to date on all the latest laws and keep your shooting skills on point. All training meets requirements set by the Division of Licensing and is done by a state licensed K instructor.[..]\nhttps://dontbeasittingduck.com/events/g-requalification-new-smyrna-beach-21/
URL:https://dontbeasittingduck.com/events/g-requalification-new-smyrna-beach-21/
END:VEVENT
END:VCALENDAR