BEGIN:VCALENDAR
VERSION:2.0
PRODID:-//eventon.com NONSGML v1.0//EN
CALSCALE:GREGORIAN
METHOD:PUBLISH
BEGIN:VEVENT
UID:69e8a29b42018
DTSTAMP:20260422T062739
DTSTART:20251212T130000Z
DTEND:20251212T170000Z
TZID:America/New_York
LOCATION:Don&#039;t Be A Sitting Duck 1633 East Vine Street 
SUMMARY:G RE-QUALIFICATION - Kissimmee
DESCRIPTION: Don’t Be A Sitting Duck offers the Security G License yearly&nbsp;4 hour&nbsp;re-qualification so you can be up to date on all the latest laws and keep your shooting skills on point. All training meets requirements set by the Division of Licensing and is done by a state licensed K instructor.[..]\nhttps://dontbeasittingduck.com/events/g-re-qualification-kissimmee-62/
URL:https://dontbeasittingduck.com/events/g-re-qualification-kissimmee-62/
END:VEVENT
END:VCALENDAR